BEGIN:VCALENDAR
VERSION:2.0
PRODID:-//Le Centre culturel Marie-Fitzbach - ECPv6.15.20//NONSGML v1.0//EN
CALSCALE:GREGORIAN
METHOD:PUBLISH
X-WR-CALNAME:Le Centre culturel Marie-Fitzbach
X-ORIGINAL-URL:https://ccmf.saint-georges.ca
X-WR-CALDESC:Évènements pour Le Centre culturel Marie-Fitzbach
REFRESH-INTERVAL;VALUE=DURATION:PT1H
X-Robots-Tag:noindex
X-PUBLISHED-TTL:PT1H
BEGIN:VTIMEZONE
TZID:America/Toronto
BEGIN:DAYLIGHT
TZOFFSETFROM:-0500
TZOFFSETTO:-0400
TZNAME:EDT
DTSTART:20250309T070000
END:DAYLIGHT
BEGIN:STANDARD
TZOFFSETFROM:-0400
TZOFFSETTO:-0500
TZNAME:EST
DTSTART:20251102T060000
END:STANDARD
BEGIN:DAYLIGHT
TZOFFSETFROM:-0500
TZOFFSETTO:-0400
TZNAME:EDT
DTSTART:20260308T070000
END:DAYLIGHT
BEGIN:STANDARD
TZOFFSETFROM:-0400
TZOFFSETTO:-0500
TZNAME:EST
DTSTART:20261101T060000
END:STANDARD
BEGIN:DAYLIGHT
TZOFFSETFROM:-0500
TZOFFSETTO:-0400
TZNAME:EDT
DTSTART:20270314T070000
END:DAYLIGHT
BEGIN:STANDARD
TZOFFSETFROM:-0400
TZOFFSETTO:-0500
TZNAME:EST
DTSTART:20271107T060000
END:STANDARD
END:VTIMEZONE
BEGIN:VEVENT
DTSTART;TZID=America/Toronto:20260422T190000
DTEND;TZID=America/Toronto:20260422T203000
DTSTAMP:20260420T085737
CREATED:20260108T212020Z
LAST-MODIFIED:20260325T200600Z
UID:16141-1776884400-1776889800@ccmf.saint-georges.ca
SUMMARY:Conférence : Les insectes comestibles
DESCRIPTION:Mercredi 22 avril à  19 h \nConférencière : Anita Légaré\, pionnière dans l’industrie des insectes \nUne conférence interactive qui explique le pourquoi des insectes comestibles. D’où ça vient\, les avantages environnementaux et nutritionnels de l’entomophagie\, l’utilisation des insectes dans l’industrie alimentaire\, des idées de recettes et une dégustation de ténébrions entiers et de biscuits aux pépites de chocolat et ténébrions moulus. \n— \nC’est un rendez-vous à la salle Denise-Rodrigue (4e étage) au Centre culturel Marie-Fitzbach.\nEntrée libre\, activité gratuite\, aucune réservation nécessaire. \n— \nÀ propos de la conférencière Anita Légaré \nAncienne globe-trotteur ayant une grande soif de découvertes\, Anita a voyagé et habité sur plusieurs continents. Passionnée de gastronomie\, de nutrition et de la nature\, Anita fait partie des pionniers de l’industrie des insectes comestibles au Québec. \nQue ce soit pour l’historique\, les avantages environnementaux et nutritionnels de l’entomophagie\, pour les méthodes d’élevage des insectes ou pour des idées de recettes entomophages les plus succulentes les unes que les autres\, elle est l’experte démystificatrice de l’entomophagie au Québec et ce\, pour les 7 à 77 ans!
URL:https://ccmf.saint-georges.ca/activite/conference-les-insectes-comestibles/
LOCATION:Salle Denise-Rodrigue\, 250\, 18e Rue\, Saint-Georges\, Québec\, G5Y 4S8
CATEGORIES:Conférences
ATTACH;FMTTYPE=image/png:https://ccmf.saint-georges.ca/wp-content/uploads/2026/01/Post-FB-conferences-calendrier2026-insectes.png
END:VEVENT
BEGIN:VEVENT
DTSTART;TZID=America/Toronto:20260424T093000
DTEND;TZID=America/Toronto:20260424T103000
DTSTAMP:20260420T085737
CREATED:20251208T160033Z
LAST-MODIFIED:20260224T151456Z
UID:15964-1777023000-1777026600@ccmf.saint-georges.ca
SUMMARY:Minilitous 24 avril
DESCRIPTION:Vendredi 24 avril à 9h30\nLecture de conte\, jeux et bricolage\nPour les enfants de 2 à 5 ans accompagnés d’un adulte\nAu salon des petits \n— \nAvec le conte : \nMon meilleur ami\nde Rob Hodgson\nSouriceau vit dans un arbre avec son meilleur ami\, Gros Hibou. Ils ont beaucoup de plaisir à jouer à cache-cache\, à se poursuivre et à faire des soirées pyjama. Mais pourquoi Gros Hibou donne-t-il tant de beignes à Souriceau? Et pourquoi ne laisse-t-il jamais Souriceau s’éloigner de l’arbre? Est-il vraiment le meilleur des meilleurs amis? \n \n— \nRéserver au 418 226-2271 ou au comptoir de prêt\nIl est possible de réserver 7 jours avant l’activité. \nGratuit \nPlaces limitées
URL:https://ccmf.saint-georges.ca/activite/minilitous-24-avril/
LOCATION:Bibliothèque\, 250\, 18e Rue\, Saint-Georges\, Québec\, G5Y 4S8
CATEGORIES:Bibliothèque
ATTACH;FMTTYPE=image/jpeg:https://ccmf.saint-georges.ca/wp-content/uploads/2025/12/img-minilitous-hiver20261.jpg
END:VEVENT
BEGIN:VEVENT
DTSTART;TZID=America/Toronto:20260424T133000
DTEND;TZID=America/Toronto:20260424T150000
DTSTAMP:20260420T085737
CREATED:20220125T190353Z
LAST-MODIFIED:20260415T151834Z
UID:10174-1777037400-1777042800@ccmf.saint-georges.ca
SUMMARY:Célébrons la poésie
DESCRIPTION:Activité dans le cadre de la journée poemeaporter. \nNous sommes d’ailleurs dans la programmation officielle 2026 ! \nVendredi 24 avril\nAtelier d’écriture\nAu centre culturel Marie-Fitzbach \nGratuit \nLaissez-vous inspirer par l’exposition « Les talents cachés s’exposent » et exprimez par le biais des mots les émotions que ces œuvres suscitent chez-vous. \n\nAccueil à 13h30 à la salle Bon-Pasteur\nPériode de découverte et d’écriture jusqu’à 15h\nLecture libre des textes et poèmes\nPetites douceurs servies\n\nPour information : Caroline Veilleux au 418 226-2271 poste 2238\n \n  \n— \nVous ne pourrez être présent pour l’atelier créatif ? \nVous voulez partager vos émotions et votre plume avec nous ? \nEnvoyez votre texte en inscrivant le numéro de l’œuvre qui vous a inspiré à culture@saint-georges.ca .
URL:https://ccmf.saint-georges.ca/activite/celebrons-la-poesie/
LOCATION:Salle Bon-Pasteur\, 250\, 18e Rue\, Saint-Georges\, Québec\, G5Y 4S8
ATTACH;FMTTYPE=image/jpeg:https://ccmf.saint-georges.ca/wp-content/uploads/2022/01/AdobeStock_629187359-poesie.jpg
END:VEVENT
BEGIN:VEVENT
DTSTART;TZID=America/Toronto:20260424T180000
DTEND;TZID=America/Toronto:20260424T210000
DTSTAMP:20260420T085737
CREATED:20260401T004333Z
LAST-MODIFIED:20260402T182916Z
UID:16668-1777053600-1777064400@ccmf.saint-georges.ca
SUMMARY:Soirée jeux de société - spécial ADO
DESCRIPTION:📅 Vendredi 24 avril 2026 \n🕕 De 18 h à 21 h \nUne soirée 100 % ados\, 100 % plaisir ! \nDes jeux choisis spécialement pour les 12-17 ans\, une ambiance chaleureuse\, des projections\, des collations et plus! \n👥 Amène ta gang — plus on est\, plus c’est le fun ! 🎲
URL:https://ccmf.saint-georges.ca/activite/soiree-jeux-de-societe-special-ado/
LOCATION:Salle Denise-Rodrigue\, 250\, 18e Rue\, Saint-Georges\, Québec\, G5Y 4S8
ATTACH;FMTTYPE=image/jpeg:https://ccmf.saint-georges.ca/wp-content/uploads/2026/03/Jeux-Ado-web.jpg
END:VEVENT
BEGIN:VEVENT
DTSTART;TZID=America/Toronto:20260426T133000
DTEND;TZID=America/Toronto:20260426T150000
DTSTAMP:20260420T085737
CREATED:20260108T212330Z
LAST-MODIFIED:20260325T200708Z
UID:16143-1777210200-1777215600@ccmf.saint-georges.ca
SUMMARY:Conférence : 20 ans d’allers-détours
DESCRIPTION:Dimanche 26 avril à  13 h 30 \nConférence : 20 ans d’allers-détours\nConférencier : Ugo Monticone\, auteur globe-trotteur \n— \nDescription de la conférence : \n« À travers ses photos et des extraits de films réalisés pour les Grands Explorateurs\, Ugo Monticone propose un survol captivant de vingt années de voyages autour du monde\, nourri de récits authentiques de rencontres humaines et de découvertes culturelles. \nUgo initie également les spectateurs à ses démarches novatrices: le tout premier roman numérique immersif\, Le vendeur de goyaves (Inde)\, le premier récit de voyage intégrant la réalité augmentée\, Tracés de voyage\, et [re]Connexions humaines avec ses illustrations 3D chromatiques. Ses livres numériques ont remporté le Grand Prix Boomerang et ont été finalistes aux Prix Numix\, des reconnaissances majeures en créativité numérique au Québec. \n\nAvec une approche qui croise littérature\, voyage\, technologie et arts visuels\, Ugo stimule la curiosité\, la créativité et l’ouverture sur le monde. » \n\n— \nC’est un rendez-vous à la salle Denise-Rodrigue (4e étage) au Centre culturel Marie-Fitzbach.\nEntrée libre\, activité gratuite\, aucune réservation nécessaire.
URL:https://ccmf.saint-georges.ca/activite/conference-20-ans-dallers-detours/
LOCATION:Salle Denise-Rodrigue\, 250\, 18e Rue\, Saint-Georges\, Québec\, G5Y 4S8
CATEGORIES:Conférences
ATTACH;FMTTYPE=image/png:https://ccmf.saint-georges.ca/wp-content/uploads/2026/01/Post-FB-conferences-calendrier2026-Ugo.png
END:VEVENT
BEGIN:VEVENT
DTSTART;TZID=America/Toronto:20260501T093000
DTEND;TZID=America/Toronto:20260501T103000
DTSTAMP:20260420T085737
CREATED:20251208T160104Z
LAST-MODIFIED:20260224T151411Z
UID:15966-1777627800-1777631400@ccmf.saint-georges.ca
SUMMARY:Minilitous 1er mai
DESCRIPTION:Vendredi 1er mai à 9h30\nLecture de conte\, jeux et bricolage\nPour les enfants de 2 à 5 ans accompagnés d’un adulte\nAu salon des petits \n— \nAvec le conte : \nLa Plus extraordinaire des randonnées\nde Julie Royer\nPour mon anniversaire\, papa m’a offert une vieille bicyclette qu’il a recyclée. Elle est blanche\, a un siège banane bleu poudre et des rubans aux poignées. Par un jour d’été\, je pars à la découverte des rues de mon quartier. Je m’apprête à vivre la plus extraordinaire des randonnées. \n \n— \nRéserver au 418 226-2271 ou au comptoir de prêt\nIl est possible de réserver 7 jours avant l’activité. \nGratuit \nPlaces limitées
URL:https://ccmf.saint-georges.ca/activite/minilitous-1-mai/
LOCATION:Bibliothèque\, 250\, 18e Rue\, Saint-Georges\, Québec\, G5Y 4S8
CATEGORIES:Bibliothèque
ATTACH;FMTTYPE=image/jpeg:https://ccmf.saint-georges.ca/wp-content/uploads/2025/12/img-minilitous-hiver20261.jpg
END:VEVENT
BEGIN:VEVENT
DTSTART;VALUE=DATE:20260502
DTEND;VALUE=DATE:20260504
DTSTAMP:20260420T085737
CREATED:20220613T153500Z
LAST-MODIFIED:20250825T152313Z
UID:8943-1777680000-1777852799@ccmf.saint-georges.ca
SUMMARY:Festival Clermont Pépin
DESCRIPTION:C’est au Centre culturel Marie-Fitzbach que nous accueillons le Festival de musique Clermont-Pépin. Nous vous attendons pour encourager tous les participants. C’est gratuit et pour tous !\nPour plus de détails\, consultez leur site WEB ou leur page Facebook. \n 
URL:https://ccmf.saint-georges.ca/activite/festival-clermont-pepin/
CATEGORIES:Pour tous
ATTACH;FMTTYPE=image/jpeg:https://ccmf.saint-georges.ca/wp-content/uploads/2022/06/img_web_FestivalClermontPepin-1.jpg
END:VEVENT
BEGIN:VEVENT
DTSTART;TZID=America/Toronto:20260508T093000
DTEND;TZID=America/Toronto:20260508T103000
DTSTAMP:20260420T085737
CREATED:20251208T160129Z
LAST-MODIFIED:20251208T160129Z
UID:15968-1778232600-1778236200@ccmf.saint-georges.ca
SUMMARY:Minilitous 8 mai
DESCRIPTION:Vendredi 8 mai à 9h30\nLecture de conte\, jeux et bricolage\nPour les enfants de 2 à 5 ans accompagnés d’un adulte\nAu salon des petits \n— \nRéserver au 418 226-2271 ou au comptoir de prêt\nIl est possible de réserver 7 jours avant l’activité. \nGratuit \nPlaces limitées
URL:https://ccmf.saint-georges.ca/activite/minilitous-8-mai/
LOCATION:Bibliothèque\, 250\, 18e Rue\, Saint-Georges\, Québec\, G5Y 4S8
CATEGORIES:Bibliothèque
ATTACH;FMTTYPE=image/jpeg:https://ccmf.saint-georges.ca/wp-content/uploads/2025/12/img-minilitous-hiver20261.jpg
END:VEVENT
BEGIN:VEVENT
DTSTART;TZID=America/Toronto:20260509T130000
DTEND;TZID=America/Toronto:20260509T150000
DTSTAMP:20260420T085737
CREATED:20260216T213656Z
LAST-MODIFIED:20260216T213656Z
UID:16438-1778331600-1778338800@ccmf.saint-georges.ca
SUMMARY:Atelier - Effets spéciaux
DESCRIPTION:Samedi 9 mai\n13 h à 15 h \nLes trucages au cinéma sont devenus tellement réalistes qu’on ne se rend plus vraiment compte qu’il s’agit d’effets spéciaux. Cet atelier permettra aux participants de voler comme Superman\, de disparaître comme Harry Potter ou de fuir un dinosaure comme dans le Monde Jurassique. \nDe façon pratique\, l’animateur va expliquer les principaux types de trucages dont la fameuse technique de l’écran vert que les participants pourront expérimenter. On explorera également l’animation image par image ainsi que le premier trucage découvert dès la naissance du cinéma\, soit la disparition. Les participants retourneront donc à la maison avec des savoirs techniques qu’ils pourront mettre en pratique sur leurs propres ordinateurs\, tablettes ou portables. \nPar Animagination \n  \nInscription obligatoire sur Sport-Plus \nCoût :\n\nRésident : 18 $\nCarte-loisirs : 14\, 40 $\nNon-résident : 36 $\n\nPour les 8 à 17 ans\nPlaces limitées
URL:https://ccmf.saint-georges.ca/activite/atelier-effets-speciaux/
CATEGORIES:Ateliers et cours
ATTACH;FMTTYPE=image/jpeg:https://ccmf.saint-georges.ca/wp-content/uploads/2026/02/Image.jpg
END:VEVENT
BEGIN:VEVENT
DTSTART;VALUE=DATE:20260511
DTEND;VALUE=DATE:20260518
DTSTAMP:20260420T085737
CREATED:20250502T131307Z
LAST-MODIFIED:20250825T152239Z
UID:13447-1778457600-1779062399@ccmf.saint-georges.ca
SUMMARY:Semaine québécoise des familles - 11 au 17 mai 2026
DESCRIPTION:Du 11 au 17 mai 2026 \nPlusieurs activités vous attendent lors de la semaine des familles! \n— \nInformation : par téléphone au 418 228-8155\n(sur les heures d’ouverture du Service des loisirs)
URL:https://ccmf.saint-georges.ca/activite/semaine-quebecoise-des-familles/
CATEGORIES:Familial
ATTACH;FMTTYPE=image/jpeg:https://ccmf.saint-georges.ca/wp-content/uploads/2025/03/Enfants-livres-bibliotheque-expositions-novembre-2023-36.jpg
END:VEVENT
BEGIN:VEVENT
DTSTART;TZID=America/Toronto:20260516T090000
DTEND;TZID=America/Toronto:20260516T113000
DTSTAMP:20260420T085737
CREATED:20251204T210052Z
LAST-MODIFIED:20251210T161213Z
UID:15949-1778922000-1778931000@ccmf.saint-georges.ca
SUMMARY:Minilitous 16 mai
DESCRIPTION:Samedi 16 mai\nSpécial théâtre en pyjama\n2 représentation : la première à 9h et la deuxième à 10h30 \nLecture de conte\, jeux et bricolage\nPour les enfants de 2 à 5 ans accompagnés d’un adulte\nAu salon des petits \n— \nRéserver au 418 226-2271 ou au comptoir de prêt\nIl est possible de réserver 7 jours avant l’activité. \nGratuit \nPlaces limitées
URL:https://ccmf.saint-georges.ca/activite/minilitous-16-mai/
LOCATION:Bibliothèque\, 250\, 18e Rue\, Saint-Georges\, Québec\, G5Y 4S8
CATEGORIES:Bibliothèque
ATTACH;FMTTYPE=image/jpeg:https://ccmf.saint-georges.ca/wp-content/uploads/2025/12/img-minilitous-hiver20261.jpg
END:VEVENT
BEGIN:VEVENT
DTSTART;VALUE=DATE:20260517
DTEND;VALUE=DATE:20260518
DTSTAMP:20260420T085737
CREATED:20260107T151032Z
LAST-MODIFIED:20260107T151112Z
UID:16093-1778976000-1779062399@ccmf.saint-georges.ca
SUMMARY:Heure du conte - 17 mai
DESCRIPTION:Heure du conte\nHistoire et bricolage\, pour les 5 à 10 ans accompagnés d’un adulte. \nDimanche 17 mai à la bibliothèque\nDeux représentations : une à 10h30 et l’autre à 13h30 \n— \nInscription obligatoire au comptoir de prêt ou au 418 226-2271. Places limitées.\nIl est possible de réserver 14 jours avant l’activité. \nPlaces limitées. \nSi vous ou votre enfant êtes malades ou si vous ne pouvez pas venir à l’activité nous vous prions de communiquer avec nous pour annuler votre réservation.
URL:https://ccmf.saint-georges.ca/activite/heure-du-conte-17mai/
CATEGORIES:Bibliothèque
ATTACH;FMTTYPE=image/jpeg:https://ccmf.saint-georges.ca/wp-content/uploads/2025/10/heure-conte2026.jpg
END:VEVENT
END:VCALENDAR